Package: Doscheda Version: 1.24.0 Command: /home/biocbuild/R/R-4.3.1/bin/R CMD INSTALL Doscheda StartedAt: 2023-11-01 20:52:19 -0000 (Wed, 01 Nov 2023) EndedAt: 2023-11-01 20:52:38 -0000 (Wed, 01 Nov 2023) EllapsedTime: 19.1 seconds RetCode: 0 Status: OK