Package: DepInfeR Version: 1.6.0 Command: chmod a+r DepInfeR -R && F:\biocbuild\bbs-3.18-bioc\R\bin\R.exe CMD build --keep-empty-dirs --no-resave-data DepInfeR StartedAt: 2024-04-15 18:00:00 -0400 (Mon, 15 Apr 2024) EndedAt: 2024-04-15 18:01:12 -0400 (Mon, 15 Apr 2024) EllapsedTime: 72.0 seconds RetCode: 0 Status: OK PackageFile: DepInfeR_1.6.0.tar.gz PackageFileSize: 1.75 MiB