Package: DepInfeR Version: 1.6.0 Command: /home/biocbuild/R/R-4.3.1/bin/R CMD check --install=check:DepInfeR.install-out.txt --library=/home/biocbuild/R/R-4.3.1/site-library --no-vignettes --timings DepInfeR_1.6.0.tar.gz StartedAt: 2023-11-02 09:55:53 -0000 (Thu, 02 Nov 2023) EndedAt: 2023-11-02 09:58:17 -0000 (Thu, 02 Nov 2023) EllapsedTime: 144.0 seconds RetCode: 0 Status: OK CheckDir: DepInfeR.Rcheck Warnings: 0