Package: DNAcopy Version: 1.76.0 Command: chmod a+r DNAcopy -R && F:\biocbuild\bbs-3.18-bioc\R\bin\R.exe CMD build --keep-empty-dirs --no-resave-data DNAcopy StartedAt: 2024-04-15 18:06:21 -0400 (Mon, 15 Apr 2024) EndedAt: 2024-04-15 18:06:43 -0400 (Mon, 15 Apr 2024) EllapsedTime: 21.3 seconds RetCode: 0 Status: OK PackageFile: DNAcopy_1.76.0.tar.gz PackageFileSize: 291.4 KiB