Package: DNAcopy Version: 1.76.0 Command: rm -rf DNAcopy.buildbin-libdir && mkdir DNAcopy.buildbin-libdir && F:\biocbuild\bbs-3.18-bioc\R\bin\R.exe CMD INSTALL --build --library=DNAcopy.buildbin-libdir DNAcopy_1.76.0.tar.gz StartedAt: 2024-04-16 06:56:29 -0400 (Tue, 16 Apr 2024) EndedAt: 2024-04-16 06:56:41 -0400 (Tue, 16 Apr 2024) EllapsedTime: 12.0 seconds RetCode: 0 Status: OK PackageFile: DNAcopy_1.76.0.zip PackageFileSize: 553.8 KiB