Package: DMRScan Version: 1.24.0 Command: /home/biocbuild/R/R-4.3.1/bin/R CMD INSTALL DMRScan StartedAt: 2023-11-01 20:10:33 -0000 (Wed, 01 Nov 2023) EndedAt: 2023-11-01 20:10:54 -0000 (Wed, 01 Nov 2023) EllapsedTime: 21.3 seconds RetCode: 0 Status: OK