Package: DMRScan Version: 1.24.0 Command: /home/biocbuild/R/R-4.3.1/bin/R CMD check --install=check:DMRScan.install-out.txt --library=/home/biocbuild/R/R-4.3.1/site-library --no-vignettes --timings DMRScan_1.24.0.tar.gz StartedAt: 2023-11-02 10:04:10 -0000 (Thu, 02 Nov 2023) EndedAt: 2023-11-02 10:12:18 -0000 (Thu, 02 Nov 2023) EllapsedTime: 487.6 seconds RetCode: 0 Status: OK CheckDir: DMRScan.Rcheck Warnings: 0