Package: DMRScan Version: 1.24.0 Command: /home/biocbuild/R/R-4.3.1/bin/R CMD build --keep-empty-dirs --no-resave-data DMRScan StartedAt: 2023-11-02 00:26:07 -0000 (Thu, 02 Nov 2023) EndedAt: 2023-11-02 00:28:20 -0000 (Thu, 02 Nov 2023) EllapsedTime: 133.2 seconds RetCode: 0 Status: OK PackageFile: DMRScan_1.24.0.tar.gz PackageFileSize: 3.371 MiB