Package: DIAlignR Version: 2.10.0 Command: /Library/Frameworks/R.framework/Resources/bin/R CMD INSTALL DIAlignR StartedAt: 2024-03-03 15:20:22 -0500 (Sun, 03 Mar 2024) EndedAt: 2024-03-03 15:21:46 -0500 (Sun, 03 Mar 2024) EllapsedTime: 83.7 seconds RetCode: 0 Status: OK