Package: DEsubs Version: 1.28.0 Command: /Library/Frameworks/R.framework/Resources/bin/R CMD INSTALL DEsubs StartedAt: 2024-04-15 16:03:55 -0400 (Mon, 15 Apr 2024) EndedAt: 2024-04-15 16:04:54 -0400 (Mon, 15 Apr 2024) EllapsedTime: 59.1 seconds RetCode: 0 Status: OK