Package: DELocal Version: 1.2.1 Command: F:\biocbuild\bbs-3.18-bioc\R\bin\R.exe CMD check --no-multiarch --install=check:DELocal.install-out.txt --library=F:\biocbuild\bbs-3.18-bioc\R\library --no-vignettes --timings DELocal_1.2.1.tar.gz StartedAt: 2024-04-16 00:01:55 -0400 (Tue, 16 Apr 2024) EndedAt: 2024-04-16 00:05:10 -0400 (Tue, 16 Apr 2024) EllapsedTime: 195.0 seconds RetCode: 0 Status: OK CheckDir: DELocal.Rcheck Warnings: 0