Package: DAPAR Version: 1.34.6 Command: /home/biocbuild/bbs-3.18-bioc/R/bin/R CMD build --keep-empty-dirs --no-resave-data DAPAR StartedAt: 2024-04-15 16:43:10 -0400 (Mon, 15 Apr 2024) EndedAt: 2024-04-15 16:43:11 -0400 (Mon, 15 Apr 2024) EllapsedTime: 1.0 seconds RetCode: 0 Status: OK PackageFile: DAPAR_1.34.6.tar.gz PackageFileSize: 150 KiB