Package: ComPrAn Version: 1.10.0 Command: /Library/Frameworks/R.framework/Resources/bin/R CMD check --install=check:ComPrAn.install-out.txt --library=/Library/Frameworks/R.framework/Resources/library --no-vignettes --timings ComPrAn_1.10.0.tar.gz StartedAt: 2024-03-03 19:48:27 -0500 (Sun, 03 Mar 2024) EndedAt: 2024-03-03 19:49:38 -0500 (Sun, 03 Mar 2024) EllapsedTime: 71.0 seconds RetCode: 0 Status: OK CheckDir: ComPrAn.Rcheck Warnings: 0