Package: ChAMP Version: 2.32.0 Command: /home/biocbuild/bbs-3.18-bioc/R/bin/R CMD check --install=check:ChAMP.install-out.txt --library=/home/biocbuild/bbs-3.18-bioc/R/site-library --timings ChAMP_2.32.0.tar.gz StartedAt: 2024-04-15 21:06:35 -0400 (Mon, 15 Apr 2024) EndedAt: 2024-04-15 21:16:10 -0400 (Mon, 15 Apr 2024) EllapsedTime: 574.9 seconds RetCode: 0 Status: WARNINGS CheckDir: ChAMP.Rcheck Warnings: 2