Package: CSAR Version: 1.54.0 Command: /home/biocbuild/R/R-4.3.1/bin/R CMD build --keep-empty-dirs --no-resave-data CSAR StartedAt: 2023-11-01 23:52:32 -0000 (Wed, 01 Nov 2023) EndedAt: 2023-11-01 23:53:06 -0000 (Wed, 01 Nov 2023) EllapsedTime: 34.0 seconds RetCode: 0 Status: OK PackageFile: CSAR_1.54.0.tar.gz PackageFileSize: 226 KiB