Package: CNORfeeder Version: 1.42.0 Command: F:\biocbuild\bbs-3.18-bioc\R\bin\R.exe CMD INSTALL CNORfeeder StartedAt: 2024-04-15 16:10:44 -0400 (Mon, 15 Apr 2024) EndedAt: 2024-04-15 16:10:58 -0400 (Mon, 15 Apr 2024) EllapsedTime: 14.0 seconds RetCode: 0 Status: OK