Package: CIMICE Version: 1.10.0 Command: /home/biocbuild/bbs-3.18-bioc/R/bin/R CMD check --install=check:CIMICE.install-out.txt --library=/home/biocbuild/bbs-3.18-bioc/R/site-library --timings CIMICE_1.10.0.tar.gz StartedAt: 2024-04-15 21:13:13 -0400 (Mon, 15 Apr 2024) EndedAt: 2024-04-15 21:14:43 -0400 (Mon, 15 Apr 2024) EllapsedTime: 90.3 seconds RetCode: 0 Status: OK CheckDir: CIMICE.Rcheck Warnings: 0