Package: CBNplot Version: 1.2.1 Command: chmod a+r CBNplot -R && F:\biocbuild\bbs-3.18-bioc\R\bin\R.exe CMD build --keep-empty-dirs --no-resave-data CBNplot StartedAt: 2024-04-15 17:26:47 -0400 (Mon, 15 Apr 2024) EndedAt: 2024-04-15 17:31:25 -0400 (Mon, 15 Apr 2024) EllapsedTime: 278.4 seconds RetCode: 0 Status: OK PackageFile: CBNplot_1.2.1.tar.gz PackageFileSize: 1.124 MiB