Package: CBNplot Version: 1.2.1 Command: rm -rf CBNplot.buildbin-libdir && mkdir CBNplot.buildbin-libdir && F:\biocbuild\bbs-3.18-bioc\R\bin\R.exe CMD INSTALL --build --library=CBNplot.buildbin-libdir CBNplot_1.2.1.tar.gz StartedAt: 2024-04-16 06:45:45 -0400 (Tue, 16 Apr 2024) EndedAt: 2024-04-16 06:46:30 -0400 (Tue, 16 Apr 2024) EllapsedTime: 44.9 seconds RetCode: 0 Status: OK PackageFile: CBNplot_1.2.1.zip PackageFileSize: 1.264 MiB