Package: BubbleTree Version: 2.32.0 Command: /Library/Frameworks/R.framework/Resources/bin/R CMD build --keep-empty-dirs --no-resave-data BubbleTree StartedAt: 2024-03-03 16:06:27 -0500 (Sun, 03 Mar 2024) EndedAt: 2024-03-03 16:09:23 -0500 (Sun, 03 Mar 2024) EllapsedTime: 176.0 seconds RetCode: 0 Status: OK PackageFile: BubbleTree_2.32.0.tar.gz PackageFileSize: 27.63 MiB