Package: BiocPkgTools Version: 1.20.0 Command: chmod a+r BiocPkgTools -R && F:\biocbuild\bbs-3.18-bioc\R\bin\R.exe CMD build --keep-empty-dirs --no-resave-data BiocPkgTools StartedAt: 2024-04-15 17:13:35 -0400 (Mon, 15 Apr 2024) EndedAt: 2024-04-15 17:21:14 -0400 (Mon, 15 Apr 2024) EllapsedTime: 459.3 seconds RetCode: 0 Status: OK PackageFile: BiocPkgTools_1.20.0.tar.gz PackageFileSize: 1.424 MiB