Package: BiocPkgTools Version: 1.20.0 Command: /home/biocbuild/bbs-3.18-bioc/R/bin/R CMD check --install=check:BiocPkgTools.install-out.txt --library=/home/biocbuild/bbs-3.18-bioc/R/site-library --timings BiocPkgTools_1.20.0.tar.gz StartedAt: 2024-04-15 20:31:50 -0400 (Mon, 15 Apr 2024) EndedAt: 2024-04-15 20:37:10 -0400 (Mon, 15 Apr 2024) EllapsedTime: 320.3 seconds RetCode: 0 Status: OK CheckDir: BiocPkgTools.Rcheck Warnings: 0