Package: BiocBook Version: 1.0.0 Command: rm -rf BiocBook.buildbin-libdir && mkdir BiocBook.buildbin-libdir && F:\biocbuild\bbs-3.18-bioc\R\bin\R.exe CMD INSTALL --build --library=BiocBook.buildbin-libdir BiocBook_1.0.0.tar.gz StartedAt: 2024-04-16 06:42:13 -0400 (Tue, 16 Apr 2024) EndedAt: 2024-04-16 06:42:23 -0400 (Tue, 16 Apr 2024) EllapsedTime: 10.2 seconds RetCode: 0 Status: OK PackageFile: BiocBook_1.0.0.zip PackageFileSize: 1.028 MiB