Package: BadRegionFinder Version: 1.30.0 Command: /Library/Frameworks/R.framework/Resources/bin/R CMD check --install=check:BadRegionFinder.install-out.txt --library=/Library/Frameworks/R.framework/Resources/library --no-vignettes --timings BadRegionFinder_1.30.0.tar.gz StartedAt: 2024-04-15 23:27:31 -0400 (Mon, 15 Apr 2024) EndedAt: 2024-04-15 23:36:31 -0400 (Mon, 15 Apr 2024) EllapsedTime: 539.5 seconds RetCode: 0 Status: OK CheckDir: BadRegionFinder.Rcheck Warnings: 0