Package: BG2 Version: 1.2.0 Command: /Library/Frameworks/R.framework/Resources/bin/R CMD check --install=check:BG2.install-out.txt --library=/Library/Frameworks/R.framework/Resources/library --no-vignettes --timings BG2_1.2.0.tar.gz StartedAt: 2024-03-03 19:08:38 -0500 (Sun, 03 Mar 2024) EndedAt: 2024-03-03 19:17:52 -0500 (Sun, 03 Mar 2024) EllapsedTime: 554.7 seconds RetCode: 0 Status: OK CheckDir: BG2.Rcheck Warnings: 0