Package: AUCell Version: 1.24.0 Command: /home/biocbuild/R/R-4.3.1/bin/R CMD build --keep-empty-dirs --no-resave-data AUCell StartedAt: 2023-11-01 22:23:09 -0000 (Wed, 01 Nov 2023) EndedAt: 2023-11-01 22:25:52 -0000 (Wed, 01 Nov 2023) EllapsedTime: 163.2 seconds RetCode: 0 Status: OK PackageFile: AUCell_1.24.0.tar.gz PackageFileSize: 1.763 MiB