Package: rnaseqDTU Version: 1.20.0 Command: chmod a+r rnaseqDTU -R && F:\biocbuild\bbs-3.17-bioc\R\bin\R.exe CMD build --keep-empty-dirs --no-resave-data rnaseqDTU StartedAt: 2023-10-13 11:09:38 -0400 (Fri, 13 Oct 2023) EndedAt: 2023-10-13 11:13:39 -0400 (Fri, 13 Oct 2023) EllapsedTime: 241.5 seconds RetCode: 0 Status: OK PackageFile: rnaseqDTU_1.20.0.tar.gz PackageFileSize: 8.154 MiB