Package: liftOver Version: 1.24.0 Command: /Library/Frameworks/R.framework/Resources/bin/R CMD INSTALL liftOver StartedAt: 2023-10-13 11:00:44 -0400 (Fri, 13 Oct 2023) EndedAt: 2023-10-13 11:01:30 -0400 (Fri, 13 Oct 2023) EllapsedTime: 45.4 seconds RetCode: 0 Status: OK