Package: txcutr Version: 1.5.0 Command: /home/biocbuild/bbs-3.17-bioc/R/bin/R CMD check --install=check:txcutr.install-out.txt --library=/home/biocbuild/bbs-3.17-bioc/R/site-library --timings txcutr_1.5.0.tar.gz StartedAt: 2023-04-12 00:18:04 -0400 (Wed, 12 Apr 2023) EndedAt: 2023-04-12 00:25:43 -0400 (Wed, 12 Apr 2023) EllapsedTime: 459.1 seconds RetCode: 0 Status: OK CheckDir: txcutr.Rcheck Warnings: 0