Package: spqn Version: 1.11.0 Command: /home/biocbuild/bbs-3.17-bioc/R/bin/R CMD INSTALL spqn StartedAt: 2023-04-11 15:09:21 -0400 (Tue, 11 Apr 2023) EndedAt: 2023-04-11 15:09:41 -0400 (Tue, 11 Apr 2023) EllapsedTime: 20.7 seconds RetCode: 0 Status: OK