Package: spqn Version: 1.11.0 Command: /home/biocbuild/bbs-3.17-bioc/R/bin/R CMD check --install=check:spqn.install-out.txt --library=/home/biocbuild/bbs-3.17-bioc/R/site-library --timings spqn_1.11.0.tar.gz StartedAt: 2023-04-11 23:51:57 -0400 (Tue, 11 Apr 2023) EndedAt: 2023-04-11 23:56:25 -0400 (Tue, 11 Apr 2023) EllapsedTime: 268.2 seconds RetCode: 0 Status: OK CheckDir: spqn.Rcheck Warnings: 0