Package: skewr Version: 1.31.0 Command: /home/biocbuild/bbs-3.17-bioc/R/bin/R CMD check --install=check:skewr.install-out.txt --library=/home/biocbuild/bbs-3.17-bioc/R/site-library --timings skewr_1.31.0.tar.gz StartedAt: 2023-04-12 09:29:06 -0400 (Wed, 12 Apr 2023) EndedAt: 2023-04-12 09:37:14 -0400 (Wed, 12 Apr 2023) EllapsedTime: 488.1 seconds RetCode: 0 Status: OK CheckDir: skewr.Rcheck Warnings: 0