git_url: https://git.bioconductor.org/packages/skewr git_branch: devel git_last_commit: 2c5c43d git_last_commit_date: 2022-11-01 11:11:10 -0400 (Tue, 01 Nov 2022) Package: skewr Version: 1.31.0 Maintainer: Ryan Putney MaintainerEmail: ryanputney at gmail.com