Package: sitePath Version: 1.15.0 Command: /home/biocbuild/bbs-3.17-bioc/R/bin/R CMD check --install=check:sitePath.install-out.txt --library=/home/biocbuild/bbs-3.17-bioc/R/site-library --timings sitePath_1.15.0.tar.gz StartedAt: 2023-04-12 09:28:21 -0400 (Wed, 12 Apr 2023) EndedAt: 2023-04-12 09:37:30 -0400 (Wed, 12 Apr 2023) EllapsedTime: 549.3 seconds RetCode: 0 Status: OK CheckDir: sitePath.Rcheck Warnings: 0