Package: sincell Version: 1.31.0 Command: /home/biocbuild/bbs-3.17-bioc/R/bin/R CMD check --install=check:sincell.install-out.txt --library=/home/biocbuild/bbs-3.17-bioc/R/site-library --timings sincell_1.31.0.tar.gz StartedAt: 2023-04-12 09:26:45 -0400 (Wed, 12 Apr 2023) EndedAt: 2023-04-12 09:30:55 -0400 (Wed, 12 Apr 2023) EllapsedTime: 250.6 seconds RetCode: 0 Status: OK CheckDir: sincell.Rcheck Warnings: 0