Package: sigsquared Version: 1.31.0 Command: /home/biocbuild/bbs-3.17-bioc/R/bin/R CMD INSTALL sigsquared StartedAt: 2023-04-11 15:27:35 -0400 (Tue, 11 Apr 2023) EndedAt: 2023-04-11 15:27:43 -0400 (Tue, 11 Apr 2023) EllapsedTime: 8.1 seconds RetCode: 0 Status: OK