Package: schex Version: 1.13.0 Command: /home/biocbuild/bbs-3.17-bioc/R/bin/R CMD INSTALL schex StartedAt: 2023-04-12 01:57:38 -0400 (Wed, 12 Apr 2023) EndedAt: 2023-04-12 01:58:16 -0400 (Wed, 12 Apr 2023) EllapsedTime: 38.6 seconds RetCode: 0 Status: OK