Package: schex Version: 1.13.0 Command: /home/biocbuild/bbs-3.17-bioc/R/bin/R CMD build --keep-empty-dirs --no-resave-data schex StartedAt: 2023-04-12 04:04:41 -0400 (Wed, 12 Apr 2023) EndedAt: 2023-04-12 04:06:36 -0400 (Wed, 12 Apr 2023) EllapsedTime: 115.3 seconds RetCode: 0 Status: OK PackageFile: schex_1.13.0.tar.gz PackageFileSize: 4.48 MiB