Package: sangerseqR Version: 1.35.2 Command: /home/biocbuild/bbs-3.17-bioc/R/bin/R CMD check --install=check:sangerseqR.install-out.txt --library=/home/biocbuild/bbs-3.17-bioc/R/site-library --timings sangerseqR_1.35.2.tar.gz StartedAt: 2023-04-11 23:15:09 -0400 (Tue, 11 Apr 2023) EndedAt: 2023-04-11 23:17:24 -0400 (Tue, 11 Apr 2023) EllapsedTime: 135.2 seconds RetCode: 0 Status: OK CheckDir: sangerseqR.Rcheck Warnings: 0