Package: sangerseqR Version: 1.35.2 Command: /home/biocbuild/bbs-3.17-bioc/R/bin/R CMD build --keep-empty-dirs --no-resave-data sangerseqR StartedAt: 2023-04-11 17:49:31 -0400 (Tue, 11 Apr 2023) EndedAt: 2023-04-11 17:50:04 -0400 (Tue, 11 Apr 2023) EllapsedTime: 33.1 seconds RetCode: 0 Status: OK PackageFile: sangerseqR_1.35.2.tar.gz PackageFileSize: 2.752 MiB