Package: sagenhaft Version: 1.69.0 Command: /home/biocbuild/bbs-3.17-bioc/R/bin/R CMD check --install=check:sagenhaft.install-out.txt --library=/home/biocbuild/bbs-3.17-bioc/R/site-library --timings sagenhaft_1.69.0.tar.gz StartedAt: 2023-04-11 23:13:57 -0400 (Tue, 11 Apr 2023) EndedAt: 2023-04-11 23:15:08 -0400 (Tue, 11 Apr 2023) EllapsedTime: 71.3 seconds RetCode: 0 Status: WARNINGS CheckDir: sagenhaft.Rcheck Warnings: 1