Package: roar Version: 1.35.0 Command: /home/biocbuild/bbs-3.17-bioc/R/bin/R CMD INSTALL roar StartedAt: 2023-04-12 01:42:58 -0400 (Wed, 12 Apr 2023) EndedAt: 2023-04-12 01:43:55 -0400 (Wed, 12 Apr 2023) EllapsedTime: 56.8 seconds RetCode: 0 Status: OK