Package: rhdf5 Version: 2.43.4 Command: /home/biocbuild/bbs-3.17-bioc/R/bin/R CMD check --install=check:rhdf5.install-out.txt --library=/home/biocbuild/bbs-3.17-bioc/R/site-library --timings rhdf5_2.43.4.tar.gz StartedAt: 2023-04-11 22:59:04 -0400 (Tue, 11 Apr 2023) EndedAt: 2023-04-11 23:12:24 -0400 (Tue, 11 Apr 2023) EllapsedTime: 799.9 seconds RetCode: 0 Status: WARNINGS CheckDir: rhdf5.Rcheck Warnings: 1