Package: rGADEM Version: 2.47.0 Command: /home/biocbuild/bbs-3.17-bioc/R/bin/R CMD INSTALL rGADEM StartedAt: 2023-04-12 01:44:44 -0400 (Wed, 12 Apr 2023) EndedAt: 2023-04-12 01:45:43 -0400 (Wed, 12 Apr 2023) EllapsedTime: 58.4 seconds RetCode: 0 Status: OK