Package: rBiopaxParser Version: 2.39.0 Command: /home/biocbuild/bbs-3.17-bioc/R/bin/R CMD build --keep-empty-dirs --no-resave-data rBiopaxParser StartedAt: 2023-04-11 17:37:58 -0400 (Tue, 11 Apr 2023) EndedAt: 2023-04-11 17:38:05 -0400 (Tue, 11 Apr 2023) EllapsedTime: 7.0 seconds RetCode: 0 Status: OK PackageFile: rBiopaxParser_2.39.0.tar.gz PackageFileSize: 765.6 KiB