Package: plier Version: 1.69.0 Command: /home/biocbuild/bbs-3.17-bioc/R/bin/R CMD build --keep-empty-dirs --no-resave-data plier StartedAt: 2023-04-11 17:30:35 -0400 (Tue, 11 Apr 2023) EndedAt: 2023-04-11 17:30:36 -0400 (Tue, 11 Apr 2023) EllapsedTime: 1.0 seconds RetCode: 0 Status: OK PackageFile: plier_1.69.0.tar.gz PackageFileSize: 20.3 KiB