Package: planttfhunter Version: 0.99.2 Command: /home/biocbuild/bbs-3.17-bioc/R/bin/R CMD INSTALL planttfhunter StartedAt: 2023-04-11 15:06:33 -0400 (Tue, 11 Apr 2023) EndedAt: 2023-04-11 15:06:54 -0400 (Tue, 11 Apr 2023) EllapsedTime: 20.5 seconds RetCode: 0 Status: OK