Package: pgca Version: 1.23.0 Command: /home/biocbuild/bbs-3.17-bioc/R/bin/R CMD build --keep-empty-dirs --no-resave-data pgca StartedAt: 2023-04-11 17:27:06 -0400 (Tue, 11 Apr 2023) EndedAt: 2023-04-11 17:27:16 -0400 (Tue, 11 Apr 2023) EllapsedTime: 10.8 seconds RetCode: 0 Status: OK PackageFile: pgca_1.23.0.tar.gz PackageFileSize: 220 KiB