Package: pepStat Version: 1.33.0 Command: /home/biocbuild/bbs-3.17-bioc/R/bin/R CMD build --keep-empty-dirs --no-resave-data pepStat StartedAt: 2023-04-12 03:41:28 -0400 (Wed, 12 Apr 2023) EndedAt: 2023-04-12 03:42:47 -0400 (Wed, 12 Apr 2023) EllapsedTime: 79.4 seconds RetCode: 0 Status: OK PackageFile: pepStat_1.33.0.tar.gz PackageFileSize: 291.4 KiB