Package: msmsTests Version: 1.37.0 Command: /home/biocbuild/bbs-3.17-bioc/R/bin/R CMD check --install=check:msmsTests.install-out.txt --library=/home/biocbuild/bbs-3.17-bioc/R/site-library --timings msmsTests_1.37.0.tar.gz StartedAt: 2023-04-12 07:43:02 -0400 (Wed, 12 Apr 2023) EndedAt: 2023-04-12 07:47:10 -0400 (Wed, 12 Apr 2023) EllapsedTime: 248.7 seconds RetCode: 0 Status: WARNINGS CheckDir: msmsTests.Rcheck Warnings: 1